BEGIN:VCALENDAR
VERSION:2.0
PRODID:HAZ Events
BEGIN:VEVENT
UID:
DTSTAMP:1776864169
SUMMARY:Skunk
LOCATION:Kino im K&uuml;nstlerhaus
CLASS:PUBLIC
DTSTART:20260429T173000Z
DTEND:20260429T193000Z
END:VEVENT
END:VCALENDAR