BEGIN:VCALENDAR
VERSION:2.0
PRODID:HAZ Events
BEGIN:VEVENT
UID:
DTSTAMP:1776867410
SUMMARY:Stations of the Elevated
LOCATION:Kino im K&uuml;nstlerhaus
CLASS:PUBLIC
DTSTART:20260429T160000Z
DTEND:20260429T180000Z
END:VEVENT
END:VCALENDAR