BEGIN:VCALENDAR
VERSION:2.0
PRODID:HAZ Events
BEGIN:VEVENT
UID:
DTSTAMP:1776879798
SUMMARY:Sentimental Value
LOCATION:Cinema im Leinepark
CLASS:PUBLIC
DTSTART:20260428T173000Z
DTEND:20260428T193000Z
END:VEVENT
END:VCALENDAR