BEGIN:VCALENDAR
VERSION:2.0
PRODID:HAZ Events
BEGIN:VEVENT
UID:
DTSTAMP:1776835377
SUMMARY:Stadtrundfahrt mit dem Solar-Oldtimerbus
LOCATION:Tourist-Information
CLASS:PUBLIC
DTSTART:20260502T120000Z
DTEND:20260502T140000Z
END:VEVENT
END:VCALENDAR