BEGIN:VCALENDAR
VERSION:2.0
PRODID:HAZ Events
BEGIN:VEVENT
UID:
DTSTAMP:1776811080
SUMMARY:Mittags mit der Kunst
LOCATION:Sprengel Museum
CLASS:PUBLIC
DTSTART:20260507T100000Z
DTEND:20260507T120000Z
END:VEVENT
END:VCALENDAR