BEGIN:VCALENDAR
VERSION:2.0
PRODID:HAZ Events
BEGIN:VEVENT
UID:
DTSTAMP:1776829787
SUMMARY:F&uuml;hrung
LOCATION:Sprengel Museum
CLASS:PUBLIC
DTSTART:20260505T163000Z
DTEND:20260505T183000Z
END:VEVENT
END:VCALENDAR