BEGIN:VCALENDAR
VERSION:2.0
PRODID:HAZ Events
BEGIN:VEVENT
UID:
DTSTAMP:1776828307
SUMMARY:Kunst am Tage
LOCATION:Sprengel Museum
CLASS:PUBLIC
DTSTART:20260520T081500Z
DTEND:20260520T101500Z
END:VEVENT
END:VCALENDAR