BEGIN:VCALENDAR
VERSION:2.0
PRODID:HAZ Events
BEGIN:VEVENT
UID:
DTSTAMP:1776791219
SUMMARY:Sprengel Knirpse
LOCATION:Sprengel Museum
CLASS:PUBLIC
DTSTART:20260508T123000Z
DTEND:20260508T133000Z
END:VEVENT
END:VCALENDAR