BEGIN:VCALENDAR
VERSION:2.0
PRODID:HAZ Events
BEGIN:VEVENT
UID:
DTSTAMP:1776771799
SUMMARY:Hannover h&auml;ppchenweise &ndash; Vielseitig lecker
LOCATION:
CLASS:PUBLIC
DTSTART:20260509T093000Z
DTEND:20260509T113000Z
END:VEVENT
END:VCALENDAR