BEGIN:VCALENDAR
VERSION:2.0
PRODID:HAZ Events
BEGIN:VEVENT
UID:
DTSTAMP:1776835371
SUMMARY:Wald im Klimawandel
LOCATION:
CLASS:PUBLIC
DTSTART:20260502T130000Z
DTEND:20260502T150000Z
END:VEVENT
END:VCALENDAR