BEGIN:VCALENDAR
VERSION:2.0
PRODID:HAZ Events
BEGIN:VEVENT
UID:
DTSTAMP:1776786144
SUMMARY:Hannover unterm Hakenkreuz
LOCATION:Neust&auml;dter Hof- und Stadtkirche St. Johannis
CLASS:PUBLIC
DTSTART:20260508T150000Z
DTEND:20260508T170000Z
END:VEVENT
END:VCALENDAR