BEGIN:VCALENDAR
VERSION:2.0
PRODID:HAZ Events
BEGIN:VEVENT
UID:
DTSTAMP:1776763433
SUMMARY:Rendezvous mit der Geschichte
LOCATION:Portal St. Clemenskirche
CLASS:PUBLIC
DTSTART:20260509T180000Z
DTEND:20260509T200000Z
END:VEVENT
END:VCALENDAR