BEGIN:VCALENDAR
VERSION:2.0
PRODID:HAZ Events
BEGIN:VEVENT
UID:
DTSTAMP:1776821713
SUMMARY:40. Hannoverscher Selbsthilfetag
LOCATION:
CLASS:PUBLIC
DTSTART:20260530T080000Z
DTEND:20260530T140000Z
END:VEVENT
END:VCALENDAR