BEGIN:VCALENDAR
VERSION:2.0
PRODID:HAZ Events
BEGIN:VEVENT
UID:
DTSTAMP:1776796123
SUMMARY:Hannover einzigartig
LOCATION:Tourist-Information
CLASS:PUBLIC
DTSTART:20260530T100000Z
DTEND:20260530T120000Z
END:VEVENT
END:VCALENDAR