BEGIN:VCALENDAR
VERSION:2.0
PRODID:HAZ Events
BEGIN:VEVENT
UID:
DTSTAMP:1776791226
SUMMARY:Hannover einzigartig
LOCATION:Tourist-Information
CLASS:PUBLIC
DTSTART:20260508T140000Z
DTEND:20260508T160000Z
END:VEVENT
END:VCALENDAR