BEGIN:VCALENDAR
VERSION:2.0
PRODID:HAZ Events
BEGIN:VEVENT
UID:
DTSTAMP:1776835388
SUMMARY:Vom Gladius zur Spatha
LOCATION:R&ouml;merlager Wilkenburg
CLASS:PUBLIC
DTSTART:20260502T120000Z
DTEND:20260502T140000Z
END:VEVENT
END:VCALENDAR