BEGIN:VCALENDAR
VERSION:2.0
PRODID:HAZ Events
BEGIN:VEVENT
UID:
DTSTAMP:1776791225
SUMMARY:Ausstellungser&ouml;ffnung: Jobst L. Hirschfeld
LOCATION:
CLASS:PUBLIC
DTSTART:20260508T140000Z
DTEND:20260508T200000Z
END:VEVENT
END:VCALENDAR