BEGIN:VCALENDAR
VERSION:2.0
PRODID:HAZ Events
BEGIN:VEVENT
UID:
DTSTAMP:1776786025
SUMMARY:Beat Street (engl. OmU)
LOCATION:Kino im K&uuml;nstlerhaus
CLASS:PUBLIC
DTSTART:20260508T173000Z
DTEND:20260508T193000Z
END:VEVENT
END:VCALENDAR