BEGIN:VCALENDAR
VERSION:2.0
PRODID:HAZ Events
BEGIN:VEVENT
UID:
DTSTAMP:1776796045
SUMMARY:Malcolm X (engl. OmU)
LOCATION:Kino im K&uuml;nstlerhaus
CLASS:PUBLIC
DTSTART:20260507T180000Z
DTEND:20260507T200000Z
END:VEVENT
END:VCALENDAR