BEGIN:VCALENDAR
VERSION:2.0
PRODID:HAZ Events
BEGIN:VEVENT
UID:
DTSTAMP:1776805065
SUMMARY:Pixadores (port. OmU)
LOCATION:Kino im K&uuml;nstlerhaus
CLASS:PUBLIC
DTSTART:20260507T153000Z
DTEND:20260507T173000Z
END:VEVENT
END:VCALENDAR