BEGIN:VCALENDAR
VERSION:2.0
PRODID:HAZ Events
BEGIN:VEVENT
UID:
DTSTAMP:1776810805
SUMMARY:Symbolic Threats
LOCATION:Kino im K&uuml;nstlerhaus
CLASS:PUBLIC
DTSTART:20260521T150000Z
DTEND:20260521T170000Z
END:VEVENT
END:VCALENDAR