BEGIN:VCALENDAR
VERSION:2.0
PRODID:HAZ Events
BEGIN:VEVENT
UID:
DTSTAMP:1776821598
SUMMARY:Straight Outta Compton (engl. OmU)
LOCATION:Kino im K&uuml;nstlerhaus
CLASS:PUBLIC
DTSTART:20260505T181500Z
DTEND:20260505T201500Z
END:VEVENT
END:VCALENDAR