BEGIN:VCALENDAR
VERSION:2.0
PRODID:HAZ Events
BEGIN:VEVENT
UID:
DTSTAMP:1776829857
SUMMARY:Hannah Arendt &ndash; Eine J&uuml;din im Pariser Exil
LOCATION:Kino im K&uuml;nstlerhaus
CLASS:PUBLIC
DTSTART:20260505T160000Z
DTEND:20260505T180000Z
END:VEVENT
END:VCALENDAR