BEGIN:VCALENDAR
VERSION:2.0
PRODID:HAZ Events
BEGIN:VEVENT
UID:
DTSTAMP:1776840742
SUMMARY:Ping Pong Paradise (engl. OmU)
LOCATION:Kino im K&uuml;nstlerhaus
CLASS:PUBLIC
DTSTART:20260501T143000Z
DTEND:20260501T163000Z
END:VEVENT
END:VCALENDAR