BEGIN:VCALENDAR
VERSION:2.0
PRODID:HAZ Events
BEGIN:VEVENT
UID:
DTSTAMP:1776835292
SUMMARY:Sputnik Moment-30 gewonnene Jahre
LOCATION:Kino am Raschplatz
CLASS:PUBLIC
DTSTART:20260502T090000Z
DTEND:20260502T110000Z
END:VEVENT
END:VCALENDAR