BEGIN:VCALENDAR
VERSION:2.0
PRODID:HAZ Events
BEGIN:VEVENT
UID:
DTSTAMP:1776800239
SUMMARY:Lena Gorelik
LOCATION:Literaturhaus Hannover
CLASS:PUBLIC
DTSTART:20260507T170000Z
DTEND:20260507T190000Z
END:VEVENT
END:VCALENDAR