BEGIN:VCALENDAR
VERSION:2.0
PRODID:HAZ Events
BEGIN:VEVENT
UID:
DTSTAMP:1776835274
SUMMARY:Workshop Botanische Illustration
LOCATION:Berggarten
CLASS:PUBLIC
DTSTART:20260502T080000Z
DTEND:20260502T140000Z
END:VEVENT
END:VCALENDAR