BEGIN:VCALENDAR
VERSION:2.0
PRODID:HAZ Events
BEGIN:VEVENT
UID:
DTSTAMP:1776821630
SUMMARY:Fr&uuml;hlingsbl&uuml;her im Berggarten
LOCATION:Berggarten
CLASS:PUBLIC
DTSTART:20260506T130000Z
DTEND:20260506T150000Z
END:VEVENT
END:VCALENDAR