BEGIN:VCALENDAR
VERSION:2.0
PRODID:HAZ Events
BEGIN:VEVENT
UID:
DTSTAMP:1776771685
SUMMARY:Nachbarschaftspicknick
LOCATION:Klagesmarkt
CLASS:PUBLIC
DTSTART:20260509T100000Z
DTEND:20260509T130000Z
END:VEVENT
END:VCALENDAR