BEGIN:VCALENDAR
VERSION:2.0
PRODID:HAZ Events
BEGIN:VEVENT
UID:
DTSTAMP:1776800223
SUMMARY:Innenstadt Hannover: wirtschaftlich und lebenswert?
LOCATION:
CLASS:PUBLIC
DTSTART:20260507T173000Z
DTEND:20260507T193000Z
END:VEVENT
END:VCALENDAR