BEGIN:VCALENDAR
VERSION:2.0
PRODID:HAZ Events
BEGIN:VEVENT
UID:
DTSTAMP:1776763384
SUMMARY:No Other Choice (engl. OmU)
LOCATION:Apollo
CLASS:PUBLIC
DTSTART:20260509T203000Z
DTEND:20260509T223000Z
END:VEVENT
END:VCALENDAR