BEGIN:VCALENDAR
VERSION:2.0
PRODID:HAZ Events
BEGIN:VEVENT
UID:
DTSTAMP:1776791276
SUMMARY:Extrawurst
LOCATION:Apollo
CLASS:PUBLIC
DTSTART:20260509T181500Z
DTEND:20260509T201500Z
END:VEVENT
END:VCALENDAR