BEGIN:VCALENDAR
VERSION:2.0
PRODID:HAZ Events
BEGIN:VEVENT
UID:
DTSTAMP:1776780952
SUMMARY:Akten des Missbrauchs
LOCATION:Apollo
CLASS:PUBLIC
DTSTART:20260508T181500Z
DTEND:20260508T201500Z
END:VEVENT
END:VCALENDAR