BEGIN:VCALENDAR
VERSION:2.0
PRODID:HAZ Events
BEGIN:VEVENT
UID:
DTSTAMP:1776776084
SUMMARY:Sentimental Value (engl. OmU)
LOCATION:Apollo
CLASS:PUBLIC
DTSTART:20260508T203000Z
DTEND:20260508T223000Z
END:VEVENT
END:VCALENDAR