BEGIN:VCALENDAR
VERSION:2.0
PRODID:HAZ Events
BEGIN:VEVENT
UID:
DTSTAMP:1776800148
SUMMARY:Sentimental Value
LOCATION:Apollo
CLASS:PUBLIC
DTSTART:20260513T153000Z
DTEND:20260513T173000Z
END:VEVENT
END:VCALENDAR