BEGIN:VCALENDAR
VERSION:2.0
PRODID:HAZ Events
BEGIN:VEVENT
UID:
DTSTAMP:1776805102
SUMMARY:Ein Kuchen f&uuml;r den Pr&auml;sidenten
LOCATION:Apollo
CLASS:PUBLIC
DTSTART:20260507T160000Z
DTEND:20260507T180000Z
END:VEVENT
END:VCALENDAR