BEGIN:VCALENDAR
VERSION:2.0
PRODID:HAZ Events
BEGIN:VEVENT
UID:
DTSTAMP:1776816209
SUMMARY:Zeit des Schweigens und der Dunkelheit
LOCATION:Apollo
CLASS:PUBLIC
DTSTART:20260506T181500Z
DTEND:20260506T201500Z
END:VEVENT
END:VCALENDAR