BEGIN:VCALENDAR
VERSION:2.0
PRODID:HAZ Events
BEGIN:VEVENT
UID:
DTSTAMP:1776796122
SUMMARY:Der Elefantenmenschen (engl. OmU)
LOCATION:Apollo
CLASS:PUBLIC
DTSTART:20260507T204500Z
DTEND:20260507T224500Z
END:VEVENT
END:VCALENDAR