BEGIN:VCALENDAR
VERSION:2.0
PRODID:HAZ Events
BEGIN:VEVENT
UID:
DTSTAMP:1776835374
SUMMARY:Thommi Baake
LOCATION:Apollo
CLASS:PUBLIC
DTSTART:20260502T090000Z
DTEND:20260502T110000Z
END:VEVENT
END:VCALENDAR