BEGIN:VCALENDAR
VERSION:2.0
PRODID:HAZ Events
BEGIN:VEVENT
UID:
DTSTAMP:1776840814
SUMMARY:Epic: Elvis Presley in Concert
LOCATION:Apollo
CLASS:PUBLIC
DTSTART:20260501T181500Z
DTEND:20260501T201500Z
END:VEVENT
END:VCALENDAR