BEGIN:VCALENDAR
VERSION:2.0
PRODID:HAZ Events
BEGIN:VEVENT
UID:
DTSTAMP:1776840867
SUMMARY:Das Fl&uuml;stern des Waldes
LOCATION:Apollo
CLASS:PUBLIC
DTSTART:20260501T160000Z
DTEND:20260501T180000Z
END:VEVENT
END:VCALENDAR