BEGIN:VCALENDAR
VERSION:2.0
PRODID:HAZ Events
BEGIN:VEVENT
UID:
DTSTAMP:1776821701
SUMMARY:Die New-York-Trilogie
LOCATION:Kino im K&uuml;nstlerhaus
CLASS:PUBLIC
DTSTART:20260506T160000Z
DTEND:20260506T180000Z
END:VEVENT
END:VCALENDAR