BEGIN:VCALENDAR
VERSION:2.0
PRODID:HAZ Events
BEGIN:VEVENT
UID:
DTSTAMP:1776816235
SUMMARY:Tage der deutsch-j&uuml;dischen Literatur: Sammy Gronemann &ndash; ein Satiriker aus Hannover
LOCATION:
CLASS:PUBLIC
DTSTART:20260506T170000Z
DTEND:20260506T190000Z
END:VEVENT
END:VCALENDAR