BEGIN:VCALENDAR
VERSION:2.0
PRODID:HAZ Events
BEGIN:VEVENT
UID:
DTSTAMP:1776846301
SUMMARY:Fr&uuml;hschoppen und Rocker Festival
LOCATION:
CLASS:PUBLIC
DTSTART:20260501T110000Z
DTEND:20260501T130000Z
END:VEVENT
END:VCALENDAR