BEGIN:VCALENDAR
VERSION:2.0
PRODID:HAZ Events
BEGIN:VEVENT
UID:
DTSTAMP:1776846595
SUMMARY:Fr&uuml;hschoppen mit Live-Musik von den Sidekicks
LOCATION:
CLASS:PUBLIC
DTSTART:20260501T090000Z
DTEND:20260501T110000Z
END:VEVENT
END:VCALENDAR