BEGIN:VCALENDAR
VERSION:2.0
PRODID:HAZ Events
BEGIN:VEVENT
UID:
DTSTAMP:1776821629
SUMMARY:Nun sagen Sie das mal mit Ihrem K&ouml;rper
LOCATION:
CLASS:PUBLIC
DTSTART:20260506T150000Z
DTEND:20260506T170000Z
END:VEVENT
END:VCALENDAR