BEGIN:VCALENDAR
VERSION:2.0
PRODID:HAZ Events
BEGIN:VEVENT
UID:
DTSTAMP:1776865753
SUMMARY:33. M&uuml;hlentag
LOCATION:
CLASS:PUBLIC
DTSTART:20260525T083000Z
DTEND:20260525T103000Z
END:VEVENT
END:VCALENDAR