BEGIN:VCALENDAR
VERSION:2.0
PRODID:HAZ Events
BEGIN:VEVENT
UID:
DTSTAMP:1776821696
SUMMARY:Goethe &ndash; Der Konfuzius von Weimar
LOCATION:Neust&auml;dter Hof- und Stadtkirche St. Johannis
CLASS:PUBLIC
DTSTART:20260506T163000Z
DTEND:20260506T183000Z
END:VEVENT
END:VCALENDAR