BEGIN:VCALENDAR
VERSION:2.0
PRODID:HAZ Events
BEGIN:VEVENT
UID:
DTSTAMP:1776786175
SUMMARY:Waterloo &ndash; The Abba Show
LOCATION:StadtHaus Burgdorf
CLASS:PUBLIC
DTSTART:20260508T173000Z
DTEND:20260508T193000Z
END:VEVENT
END:VCALENDAR