BEGIN:VCALENDAR
VERSION:2.0
PRODID:HAZ Events
BEGIN:VEVENT
UID:
DTSTAMP:1777153354
SUMMARY:Diablo Wind Of The Loose &amp; Grenas
LOCATION:Gastst&auml;tte Zum Stern
CLASS:PUBLIC
DTSTART:20260515T180000Z
DTEND:20260515T200000Z
END:VEVENT
END:VCALENDAR